BEGIN:VCALENDAR
VERSION:2.0
PRODID:-//AdventuresNW - ECPv6.15.17//NONSGML v1.0//EN
CALSCALE:GREGORIAN
METHOD:PUBLISH
X-ORIGINAL-URL:https://www.adventuresnw.com
X-WR-CALDESC:Events for AdventuresNW
REFRESH-INTERVAL;VALUE=DURATION:PT1H
X-Robots-Tag:noindex
X-PUBLISHED-TTL:PT1H
BEGIN:VTIMEZONE
TZID:America/Los_Angeles
BEGIN:DAYLIGHT
TZOFFSETFROM:-0800
TZOFFSETTO:-0700
TZNAME:PDT
DTSTART:20250309T100000
END:DAYLIGHT
BEGIN:STANDARD
TZOFFSETFROM:-0700
TZOFFSETTO:-0800
TZNAME:PST
DTSTART:20251102T090000
END:STANDARD
BEGIN:DAYLIGHT
TZOFFSETFROM:-0800
TZOFFSETTO:-0700
TZNAME:PDT
DTSTART:20260308T100000
END:DAYLIGHT
BEGIN:STANDARD
TZOFFSETFROM:-0700
TZOFFSETTO:-0800
TZNAME:PST
DTSTART:20261101T090000
END:STANDARD
BEGIN:DAYLIGHT
TZOFFSETFROM:-0800
TZOFFSETTO:-0700
TZNAME:PDT
DTSTART:20270314T100000
END:DAYLIGHT
BEGIN:STANDARD
TZOFFSETFROM:-0700
TZOFFSETTO:-0800
TZNAME:PST
DTSTART:20271107T090000
END:STANDARD
END:VTIMEZONE
BEGIN:VEVENT
DTSTART;TZID=America/Los_Angeles:20260426T080000
DTEND;TZID=America/Los_Angeles:20260426T100000
DTSTAMP:20260421T024459
CREATED:20250808T003125Z
LAST-MODIFIED:20250819T002600Z
UID:10000182-1777190400-1777197600@www.adventuresnw.com
SUMMARY:Wander Women Sunday Adventures
DESCRIPTION:Group is open to women-identifying individuals of all ages & skill levels. Meets Sundays 8am
URL:https://www.adventuresnw.com/event/wander-women-sunday-adventures-3/2026-04-26/
LOCATION:Wander Brewing\, 1807 Dean Ave.\, Bellingham\, WA
CATEGORIES:Run
END:VEVENT
BEGIN:VEVENT
DTSTART;TZID=America/Los_Angeles:20260503T080000
DTEND;TZID=America/Los_Angeles:20260503T100000
DTSTAMP:20260421T024459
CREATED:20250808T003125Z
LAST-MODIFIED:20250819T002600Z
UID:10000183-1777795200-1777802400@www.adventuresnw.com
SUMMARY:Wander Women Sunday Adventures
DESCRIPTION:Group is open to women-identifying individuals of all ages & skill levels. Meets Sundays 8am
URL:https://www.adventuresnw.com/event/wander-women-sunday-adventures-3/2026-05-03/
LOCATION:Wander Brewing\, 1807 Dean Ave.\, Bellingham\, WA
CATEGORIES:Run
END:VEVENT
BEGIN:VEVENT
DTSTART;TZID=America/Los_Angeles:20260510T080000
DTEND;TZID=America/Los_Angeles:20260510T100000
DTSTAMP:20260421T024459
CREATED:20250808T003125Z
LAST-MODIFIED:20250819T002600Z
UID:10000184-1778400000-1778407200@www.adventuresnw.com
SUMMARY:Wander Women Sunday Adventures
DESCRIPTION:Group is open to women-identifying individuals of all ages & skill levels. Meets Sundays 8am
URL:https://www.adventuresnw.com/event/wander-women-sunday-adventures-3/2026-05-10/
LOCATION:Wander Brewing\, 1807 Dean Ave.\, Bellingham\, WA
CATEGORIES:Run
END:VEVENT
BEGIN:VEVENT
DTSTART;TZID=America/Los_Angeles:20260517T080000
DTEND;TZID=America/Los_Angeles:20260517T100000
DTSTAMP:20260421T024459
CREATED:20250808T003125Z
LAST-MODIFIED:20250819T002600Z
UID:10000185-1779004800-1779012000@www.adventuresnw.com
SUMMARY:Wander Women Sunday Adventures
DESCRIPTION:Group is open to women-identifying individuals of all ages & skill levels. Meets Sundays 8am
URL:https://www.adventuresnw.com/event/wander-women-sunday-adventures-3/2026-05-17/
LOCATION:Wander Brewing\, 1807 Dean Ave.\, Bellingham\, WA
CATEGORIES:Run
END:VEVENT
BEGIN:VEVENT
DTSTART;TZID=America/Los_Angeles:20260524T080000
DTEND;TZID=America/Los_Angeles:20260524T100000
DTSTAMP:20260421T024459
CREATED:20250808T003125Z
LAST-MODIFIED:20250819T002600Z
UID:10000186-1779609600-1779616800@www.adventuresnw.com
SUMMARY:Wander Women Sunday Adventures
DESCRIPTION:Group is open to women-identifying individuals of all ages & skill levels. Meets Sundays 8am
URL:https://www.adventuresnw.com/event/wander-women-sunday-adventures-3/2026-05-24/
LOCATION:Wander Brewing\, 1807 Dean Ave.\, Bellingham\, WA
CATEGORIES:Run
END:VEVENT
BEGIN:VEVENT
DTSTART;TZID=America/Los_Angeles:20260531T080000
DTEND;TZID=America/Los_Angeles:20260531T100000
DTSTAMP:20260421T024459
CREATED:20250808T003125Z
LAST-MODIFIED:20250819T002600Z
UID:10000187-1780214400-1780221600@www.adventuresnw.com
SUMMARY:Wander Women Sunday Adventures
DESCRIPTION:Group is open to women-identifying individuals of all ages & skill levels. Meets Sundays 8am
URL:https://www.adventuresnw.com/event/wander-women-sunday-adventures-3/2026-05-31/
LOCATION:Wander Brewing\, 1807 Dean Ave.\, Bellingham\, WA
CATEGORIES:Run
END:VEVENT
BEGIN:VEVENT
DTSTART;TZID=America/Los_Angeles:20260607T080000
DTEND;TZID=America/Los_Angeles:20260607T100000
DTSTAMP:20260421T024459
CREATED:20250808T003125Z
LAST-MODIFIED:20250819T002600Z
UID:10000188-1780819200-1780826400@www.adventuresnw.com
SUMMARY:Wander Women Sunday Adventures
DESCRIPTION:Group is open to women-identifying individuals of all ages & skill levels. Meets Sundays 8am
URL:https://www.adventuresnw.com/event/wander-women-sunday-adventures-3/2026-06-07/
LOCATION:Wander Brewing\, 1807 Dean Ave.\, Bellingham\, WA
CATEGORIES:Run
END:VEVENT
BEGIN:VEVENT
DTSTART;TZID=America/Los_Angeles:20260614T080000
DTEND;TZID=America/Los_Angeles:20260614T100000
DTSTAMP:20260421T024459
CREATED:20250808T003125Z
LAST-MODIFIED:20250819T002600Z
UID:10000189-1781424000-1781431200@www.adventuresnw.com
SUMMARY:Wander Women Sunday Adventures
DESCRIPTION:Group is open to women-identifying individuals of all ages & skill levels. Meets Sundays 8am
URL:https://www.adventuresnw.com/event/wander-women-sunday-adventures-3/2026-06-14/
LOCATION:Wander Brewing\, 1807 Dean Ave.\, Bellingham\, WA
CATEGORIES:Run
END:VEVENT
BEGIN:VEVENT
DTSTART;TZID=America/Los_Angeles:20260621T080000
DTEND;TZID=America/Los_Angeles:20260621T100000
DTSTAMP:20260421T024459
CREATED:20250808T003125Z
LAST-MODIFIED:20250819T002600Z
UID:10000190-1782028800-1782036000@www.adventuresnw.com
SUMMARY:Wander Women Sunday Adventures
DESCRIPTION:Group is open to women-identifying individuals of all ages & skill levels. Meets Sundays 8am
URL:https://www.adventuresnw.com/event/wander-women-sunday-adventures-3/2026-06-21/
LOCATION:Wander Brewing\, 1807 Dean Ave.\, Bellingham\, WA
CATEGORIES:Run
END:VEVENT
BEGIN:VEVENT
DTSTART;TZID=America/Los_Angeles:20260628T080000
DTEND;TZID=America/Los_Angeles:20260628T100000
DTSTAMP:20260421T024459
CREATED:20250808T003125Z
LAST-MODIFIED:20250819T002600Z
UID:10000191-1782633600-1782640800@www.adventuresnw.com
SUMMARY:Wander Women Sunday Adventures
DESCRIPTION:Group is open to women-identifying individuals of all ages & skill levels. Meets Sundays 8am
URL:https://www.adventuresnw.com/event/wander-women-sunday-adventures-3/2026-06-28/
LOCATION:Wander Brewing\, 1807 Dean Ave.\, Bellingham\, WA
CATEGORIES:Run
END:VEVENT
BEGIN:VEVENT
DTSTART;TZID=America/Los_Angeles:20260705T080000
DTEND;TZID=America/Los_Angeles:20260705T100000
DTSTAMP:20260421T024459
CREATED:20250808T003125Z
LAST-MODIFIED:20250819T002600Z
UID:10000192-1783238400-1783245600@www.adventuresnw.com
SUMMARY:Wander Women Sunday Adventures
DESCRIPTION:Group is open to women-identifying individuals of all ages & skill levels. Meets Sundays 8am
URL:https://www.adventuresnw.com/event/wander-women-sunday-adventures-3/2026-07-05/
LOCATION:Wander Brewing\, 1807 Dean Ave.\, Bellingham\, WA
CATEGORIES:Run
END:VEVENT
BEGIN:VEVENT
DTSTART;TZID=America/Los_Angeles:20260712T080000
DTEND;TZID=America/Los_Angeles:20260712T100000
DTSTAMP:20260421T024459
CREATED:20250808T003125Z
LAST-MODIFIED:20250819T002600Z
UID:10000193-1783843200-1783850400@www.adventuresnw.com
SUMMARY:Wander Women Sunday Adventures
DESCRIPTION:Group is open to women-identifying individuals of all ages & skill levels. Meets Sundays 8am
URL:https://www.adventuresnw.com/event/wander-women-sunday-adventures-3/2026-07-12/
LOCATION:Wander Brewing\, 1807 Dean Ave.\, Bellingham\, WA
CATEGORIES:Run
END:VEVENT
BEGIN:VEVENT
DTSTART;TZID=America/Los_Angeles:20260719T080000
DTEND;TZID=America/Los_Angeles:20260719T100000
DTSTAMP:20260421T024459
CREATED:20250808T003125Z
LAST-MODIFIED:20250819T002600Z
UID:10000194-1784448000-1784455200@www.adventuresnw.com
SUMMARY:Wander Women Sunday Adventures
DESCRIPTION:Group is open to women-identifying individuals of all ages & skill levels. Meets Sundays 8am
URL:https://www.adventuresnw.com/event/wander-women-sunday-adventures-3/2026-07-19/
LOCATION:Wander Brewing\, 1807 Dean Ave.\, Bellingham\, WA
CATEGORIES:Run
END:VEVENT
BEGIN:VEVENT
DTSTART;TZID=America/Los_Angeles:20260726T080000
DTEND;TZID=America/Los_Angeles:20260726T100000
DTSTAMP:20260421T024459
CREATED:20250808T003125Z
LAST-MODIFIED:20250819T002600Z
UID:10000195-1785052800-1785060000@www.adventuresnw.com
SUMMARY:Wander Women Sunday Adventures
DESCRIPTION:Group is open to women-identifying individuals of all ages & skill levels. Meets Sundays 8am
URL:https://www.adventuresnw.com/event/wander-women-sunday-adventures-3/2026-07-26/
LOCATION:Wander Brewing\, 1807 Dean Ave.\, Bellingham\, WA
CATEGORIES:Run
END:VEVENT
BEGIN:VEVENT
DTSTART;TZID=America/Los_Angeles:20260802T080000
DTEND;TZID=America/Los_Angeles:20260802T100000
DTSTAMP:20260421T024459
CREATED:20250808T003125Z
LAST-MODIFIED:20250819T002600Z
UID:10000196-1785657600-1785664800@www.adventuresnw.com
SUMMARY:Wander Women Sunday Adventures
DESCRIPTION:Group is open to women-identifying individuals of all ages & skill levels. Meets Sundays 8am
URL:https://www.adventuresnw.com/event/wander-women-sunday-adventures-3/2026-08-02/
LOCATION:Wander Brewing\, 1807 Dean Ave.\, Bellingham\, WA
CATEGORIES:Run
END:VEVENT
BEGIN:VEVENT
DTSTART;TZID=America/Los_Angeles:20260809T080000
DTEND;TZID=America/Los_Angeles:20260809T100000
DTSTAMP:20260421T024459
CREATED:20250808T003125Z
LAST-MODIFIED:20250819T002600Z
UID:10000197-1786262400-1786269600@www.adventuresnw.com
SUMMARY:Wander Women Sunday Adventures
DESCRIPTION:Group is open to women-identifying individuals of all ages & skill levels. Meets Sundays 8am
URL:https://www.adventuresnw.com/event/wander-women-sunday-adventures-3/2026-08-09/
LOCATION:Wander Brewing\, 1807 Dean Ave.\, Bellingham\, WA
CATEGORIES:Run
END:VEVENT
BEGIN:VEVENT
DTSTART;TZID=America/Los_Angeles:20260816T080000
DTEND;TZID=America/Los_Angeles:20260816T100000
DTSTAMP:20260421T024459
CREATED:20250808T003125Z
LAST-MODIFIED:20250819T002600Z
UID:10000198-1786867200-1786874400@www.adventuresnw.com
SUMMARY:Wander Women Sunday Adventures
DESCRIPTION:Group is open to women-identifying individuals of all ages & skill levels. Meets Sundays 8am
URL:https://www.adventuresnw.com/event/wander-women-sunday-adventures-3/2026-08-16/
LOCATION:Wander Brewing\, 1807 Dean Ave.\, Bellingham\, WA
CATEGORIES:Run
END:VEVENT
BEGIN:VEVENT
DTSTART;TZID=America/Los_Angeles:20260823T080000
DTEND;TZID=America/Los_Angeles:20260823T100000
DTSTAMP:20260421T024459
CREATED:20250808T003125Z
LAST-MODIFIED:20250819T002600Z
UID:10000199-1787472000-1787479200@www.adventuresnw.com
SUMMARY:Wander Women Sunday Adventures
DESCRIPTION:Group is open to women-identifying individuals of all ages & skill levels. Meets Sundays 8am
URL:https://www.adventuresnw.com/event/wander-women-sunday-adventures-3/2026-08-23/
LOCATION:Wander Brewing\, 1807 Dean Ave.\, Bellingham\, WA
CATEGORIES:Run
END:VEVENT
BEGIN:VEVENT
DTSTART;TZID=America/Los_Angeles:20260830T080000
DTEND;TZID=America/Los_Angeles:20260830T100000
DTSTAMP:20260421T024459
CREATED:20250808T003125Z
LAST-MODIFIED:20250819T002600Z
UID:10000200-1788076800-1788084000@www.adventuresnw.com
SUMMARY:Wander Women Sunday Adventures
DESCRIPTION:Group is open to women-identifying individuals of all ages & skill levels. Meets Sundays 8am
URL:https://www.adventuresnw.com/event/wander-women-sunday-adventures-3/2026-08-30/
LOCATION:Wander Brewing\, 1807 Dean Ave.\, Bellingham\, WA
CATEGORIES:Run
END:VEVENT
BEGIN:VEVENT
DTSTART;TZID=America/Los_Angeles:20260906T080000
DTEND;TZID=America/Los_Angeles:20260906T100000
DTSTAMP:20260421T024459
CREATED:20250808T003125Z
LAST-MODIFIED:20250819T002600Z
UID:10000201-1788681600-1788688800@www.adventuresnw.com
SUMMARY:Wander Women Sunday Adventures
DESCRIPTION:Group is open to women-identifying individuals of all ages & skill levels. Meets Sundays 8am
URL:https://www.adventuresnw.com/event/wander-women-sunday-adventures-3/2026-09-06/
LOCATION:Wander Brewing\, 1807 Dean Ave.\, Bellingham\, WA
CATEGORIES:Run
END:VEVENT
BEGIN:VEVENT
DTSTART;TZID=America/Los_Angeles:20260912T070000
DTEND;TZID=America/Los_Angeles:20260912T153000
DTSTAMP:20260421T024459
CREATED:20260121T195625Z
LAST-MODIFIED:20260121T195625Z
UID:10000526-1789196400-1789227000@www.adventuresnw.com
SUMMARY:GOAT Run (Great Olympic Adventure Trail Run)
DESCRIPTION:Half marathon\, marathon\, and 50K point-to-point trail race ending in Olympic National Park
URL:https://www.adventuresnw.com/event/goat-run-great-olympic-adventure-trail-run/
LOCATION:Olympic Adventure Trail\, Port Angeles\, United States
CATEGORIES:Run
END:VEVENT
BEGIN:VEVENT
DTSTART;TZID=America/Los_Angeles:20260913T080000
DTEND;TZID=America/Los_Angeles:20260913T100000
DTSTAMP:20260421T024459
CREATED:20250808T003125Z
LAST-MODIFIED:20250819T002600Z
UID:10000202-1789286400-1789293600@www.adventuresnw.com
SUMMARY:Wander Women Sunday Adventures
DESCRIPTION:Group is open to women-identifying individuals of all ages & skill levels. Meets Sundays 8am
URL:https://www.adventuresnw.com/event/wander-women-sunday-adventures-3/2026-09-13/
LOCATION:Wander Brewing\, 1807 Dean Ave.\, Bellingham\, WA
CATEGORIES:Run
END:VEVENT
BEGIN:VEVENT
DTSTART;TZID=America/Los_Angeles:20260920T080000
DTEND;TZID=America/Los_Angeles:20260920T100000
DTSTAMP:20260421T024459
CREATED:20250808T003125Z
LAST-MODIFIED:20250819T002600Z
UID:10000203-1789891200-1789898400@www.adventuresnw.com
SUMMARY:Wander Women Sunday Adventures
DESCRIPTION:Group is open to women-identifying individuals of all ages & skill levels. Meets Sundays 8am
URL:https://www.adventuresnw.com/event/wander-women-sunday-adventures-3/2026-09-20/
LOCATION:Wander Brewing\, 1807 Dean Ave.\, Bellingham\, WA
CATEGORIES:Run
END:VEVENT
BEGIN:VEVENT
DTSTART;TZID=America/Los_Angeles:20260927T080000
DTEND;TZID=America/Los_Angeles:20260927T100000
DTSTAMP:20260421T024459
CREATED:20250808T003125Z
LAST-MODIFIED:20250819T002600Z
UID:10000204-1790496000-1790503200@www.adventuresnw.com
SUMMARY:Wander Women Sunday Adventures
DESCRIPTION:Group is open to women-identifying individuals of all ages & skill levels. Meets Sundays 8am
URL:https://www.adventuresnw.com/event/wander-women-sunday-adventures-3/2026-09-27/
LOCATION:Wander Brewing\, 1807 Dean Ave.\, Bellingham\, WA
CATEGORIES:Run
END:VEVENT
BEGIN:VEVENT
DTSTART;TZID=America/Los_Angeles:20261004T080000
DTEND;TZID=America/Los_Angeles:20261004T100000
DTSTAMP:20260421T024459
CREATED:20250808T003125Z
LAST-MODIFIED:20250819T002600Z
UID:10000205-1791100800-1791108000@www.adventuresnw.com
SUMMARY:Wander Women Sunday Adventures
DESCRIPTION:Group is open to women-identifying individuals of all ages & skill levels. Meets Sundays 8am
URL:https://www.adventuresnw.com/event/wander-women-sunday-adventures-3/2026-10-04/
LOCATION:Wander Brewing\, 1807 Dean Ave.\, Bellingham\, WA
CATEGORIES:Run
END:VEVENT
BEGIN:VEVENT
DTSTART;TZID=America/Los_Angeles:20261011T080000
DTEND;TZID=America/Los_Angeles:20261011T100000
DTSTAMP:20260421T024459
CREATED:20250808T003125Z
LAST-MODIFIED:20250819T002600Z
UID:10000206-1791705600-1791712800@www.adventuresnw.com
SUMMARY:Wander Women Sunday Adventures
DESCRIPTION:Group is open to women-identifying individuals of all ages & skill levels. Meets Sundays 8am
URL:https://www.adventuresnw.com/event/wander-women-sunday-adventures-3/2026-10-11/
LOCATION:Wander Brewing\, 1807 Dean Ave.\, Bellingham\, WA
CATEGORIES:Run
END:VEVENT
BEGIN:VEVENT
DTSTART;TZID=America/Los_Angeles:20261011T090000
DTEND;TZID=America/Los_Angeles:20261011T170000
DTSTAMP:20260421T024459
CREATED:20260123T215646Z
LAST-MODIFIED:20260123T215646Z
UID:10000529-1791709200-1791738000@www.adventuresnw.com
SUMMARY:Trails to Taps Relay
DESCRIPTION:Teams of 8 runners explore 30+ miles of trails\, roads\, and parks with leg lengths between 3-6 miles on this untimed fun run. Each transition spot is one of eight local breweries and cideries throughout Bellingham. It all ends with an After Party at Kulshan Trackside. Costumes are strongly encouraged\, and the costume contest winner receives merchandise from the local breweries and cideries. \nThis event is 21+.
URL:https://www.adventuresnw.com/event/trails-to-taps-relay-2/
LOCATION:Lake Padden\, 4882 Samish Way\, Bellingham\, WA\, 98229\, United States
CATEGORIES:Run
END:VEVENT
BEGIN:VEVENT
DTSTART;TZID=America/Los_Angeles:20261018T080000
DTEND;TZID=America/Los_Angeles:20261018T100000
DTSTAMP:20260421T024459
CREATED:20250808T003125Z
LAST-MODIFIED:20250819T002600Z
UID:10000207-1792310400-1792317600@www.adventuresnw.com
SUMMARY:Wander Women Sunday Adventures
DESCRIPTION:Group is open to women-identifying individuals of all ages & skill levels. Meets Sundays 8am
URL:https://www.adventuresnw.com/event/wander-women-sunday-adventures-3/2026-10-18/
LOCATION:Wander Brewing\, 1807 Dean Ave.\, Bellingham\, WA
CATEGORIES:Run
END:VEVENT
BEGIN:VEVENT
DTSTART;TZID=America/Los_Angeles:20261024T083000
DTEND;TZID=America/Los_Angeles:20261025T083000
DTSTAMP:20260421T024459
CREATED:20260121T195910Z
LAST-MODIFIED:20260121T195910Z
UID:10000528-1792830600-1792917000@www.adventuresnw.com
SUMMARY:Salt Creek 24
DESCRIPTION:24-hour run/walk event at Salt Creek Recreation Area
URL:https://www.adventuresnw.com/event/salt-creek-24/
LOCATION:Salt Creek Recreation Area\, Port Angeles\, WA\, United States
CATEGORIES:Run
END:VEVENT
BEGIN:VEVENT
DTSTART;TZID=America/Los_Angeles:20261025T080000
DTEND;TZID=America/Los_Angeles:20261025T100000
DTSTAMP:20260421T024459
CREATED:20250808T003125Z
LAST-MODIFIED:20250819T002600Z
UID:10000208-1792915200-1792922400@www.adventuresnw.com
SUMMARY:Wander Women Sunday Adventures
DESCRIPTION:Group is open to women-identifying individuals of all ages & skill levels. Meets Sundays 8am
URL:https://www.adventuresnw.com/event/wander-women-sunday-adventures-3/2026-10-25/
LOCATION:Wander Brewing\, 1807 Dean Ave.\, Bellingham\, WA
CATEGORIES:Run
END:VEVENT
END:VCALENDAR