BEGIN:VCALENDAR
VERSION:2.0
PRODID:-//AdventuresNW - ECPv6.15.17//NONSGML v1.0//EN
CALSCALE:GREGORIAN
METHOD:PUBLISH
X-WR-CALNAME:AdventuresNW
X-ORIGINAL-URL:https://www.adventuresnw.com
X-WR-CALDESC:Events for AdventuresNW
REFRESH-INTERVAL;VALUE=DURATION:PT1H
X-Robots-Tag:noindex
X-PUBLISHED-TTL:PT1H
BEGIN:VTIMEZONE
TZID:America/Los_Angeles
BEGIN:DAYLIGHT
TZOFFSETFROM:-0800
TZOFFSETTO:-0700
TZNAME:PDT
DTSTART:20240310T100000
END:DAYLIGHT
BEGIN:STANDARD
TZOFFSETFROM:-0700
TZOFFSETTO:-0800
TZNAME:PST
DTSTART:20241103T090000
END:STANDARD
BEGIN:DAYLIGHT
TZOFFSETFROM:-0800
TZOFFSETTO:-0700
TZNAME:PDT
DTSTART:20250309T100000
END:DAYLIGHT
BEGIN:STANDARD
TZOFFSETFROM:-0700
TZOFFSETTO:-0800
TZNAME:PST
DTSTART:20251102T090000
END:STANDARD
BEGIN:DAYLIGHT
TZOFFSETFROM:-0800
TZOFFSETTO:-0700
TZNAME:PDT
DTSTART:20260308T100000
END:DAYLIGHT
BEGIN:STANDARD
TZOFFSETFROM:-0700
TZOFFSETTO:-0800
TZNAME:PST
DTSTART:20261101T090000
END:STANDARD
BEGIN:DAYLIGHT
TZOFFSETFROM:-0800
TZOFFSETTO:-0700
TZNAME:PDT
DTSTART:20270314T100000
END:DAYLIGHT
BEGIN:STANDARD
TZOFFSETFROM:-0700
TZOFFSETTO:-0800
TZNAME:PST
DTSTART:20271107T090000
END:STANDARD
END:VTIMEZONE
BEGIN:VEVENT
DTSTART;TZID=America/Los_Angeles:20260111T080000
DTEND;TZID=America/Los_Angeles:20260111T100000
DTSTAMP:20260421T071418
CREATED:20250808T003125Z
LAST-MODIFIED:20250819T002600Z
UID:10000167-1768118400-1768125600@www.adventuresnw.com
SUMMARY:Wander Women Sunday Adventures
DESCRIPTION:Group is open to women-identifying individuals of all ages & skill levels. Meets Sundays 8am
URL:https://www.adventuresnw.com/event/wander-women-sunday-adventures-3/2026-01-11/
LOCATION:Wander Brewing\, 1807 Dean Ave.\, Bellingham\, WA
CATEGORIES:Run
END:VEVENT
BEGIN:VEVENT
DTSTART;TZID=America/Los_Angeles:20260104T080000
DTEND;TZID=America/Los_Angeles:20260104T100000
DTSTAMP:20260421T071418
CREATED:20250808T003125Z
LAST-MODIFIED:20250819T002600Z
UID:10000166-1767513600-1767520800@www.adventuresnw.com
SUMMARY:Wander Women Sunday Adventures
DESCRIPTION:Group is open to women-identifying individuals of all ages & skill levels. Meets Sundays 8am
URL:https://www.adventuresnw.com/event/wander-women-sunday-adventures-3/2026-01-04/
LOCATION:Wander Brewing\, 1807 Dean Ave.\, Bellingham\, WA
CATEGORIES:Run
END:VEVENT
BEGIN:VEVENT
DTSTART;TZID=America/Los_Angeles:20251228T080000
DTEND;TZID=America/Los_Angeles:20251228T100000
DTSTAMP:20260421T071418
CREATED:20250808T003125Z
LAST-MODIFIED:20250819T002600Z
UID:10000165-1766908800-1766916000@www.adventuresnw.com
SUMMARY:Wander Women Sunday Adventures
DESCRIPTION:Group is open to women-identifying individuals of all ages & skill levels. Meets Sundays 8am
URL:https://www.adventuresnw.com/event/wander-women-sunday-adventures-3/2025-12-28/
LOCATION:Wander Brewing\, 1807 Dean Ave.\, Bellingham\, WA
CATEGORIES:Run
END:VEVENT
BEGIN:VEVENT
DTSTART;TZID=America/Los_Angeles:20251221T080000
DTEND;TZID=America/Los_Angeles:20251221T100000
DTSTAMP:20260421T071418
CREATED:20250808T003125Z
LAST-MODIFIED:20250819T002600Z
UID:10000164-1766304000-1766311200@www.adventuresnw.com
SUMMARY:Wander Women Sunday Adventures
DESCRIPTION:Group is open to women-identifying individuals of all ages & skill levels. Meets Sundays 8am
URL:https://www.adventuresnw.com/event/wander-women-sunday-adventures-3/2025-12-21/
LOCATION:Wander Brewing\, 1807 Dean Ave.\, Bellingham\, WA
CATEGORIES:Run
END:VEVENT
BEGIN:VEVENT
DTSTART;TZID=America/Los_Angeles:20251214T080000
DTEND;TZID=America/Los_Angeles:20251214T100000
DTSTAMP:20260421T071418
CREATED:20250808T003125Z
LAST-MODIFIED:20250819T002600Z
UID:10000163-1765699200-1765706400@www.adventuresnw.com
SUMMARY:Wander Women Sunday Adventures
DESCRIPTION:Group is open to women-identifying individuals of all ages & skill levels. Meets Sundays 8am
URL:https://www.adventuresnw.com/event/wander-women-sunday-adventures-3/2025-12-14/
LOCATION:Wander Brewing\, 1807 Dean Ave.\, Bellingham\, WA
CATEGORIES:Run
END:VEVENT
BEGIN:VEVENT
DTSTART;TZID=America/Los_Angeles:20251207T080000
DTEND;TZID=America/Los_Angeles:20251207T100000
DTSTAMP:20260421T071418
CREATED:20250808T003125Z
LAST-MODIFIED:20250819T002600Z
UID:10000162-1765094400-1765101600@www.adventuresnw.com
SUMMARY:Wander Women Sunday Adventures
DESCRIPTION:Group is open to women-identifying individuals of all ages & skill levels. Meets Sundays 8am
URL:https://www.adventuresnw.com/event/wander-women-sunday-adventures-3/2025-12-07/
LOCATION:Wander Brewing\, 1807 Dean Ave.\, Bellingham\, WA
CATEGORIES:Run
END:VEVENT
BEGIN:VEVENT
DTSTART;TZID=America/Los_Angeles:20251130T080000
DTEND;TZID=America/Los_Angeles:20251130T100000
DTSTAMP:20260421T071418
CREATED:20250808T003125Z
LAST-MODIFIED:20250819T002600Z
UID:10000161-1764489600-1764496800@www.adventuresnw.com
SUMMARY:Wander Women Sunday Adventures
DESCRIPTION:Group is open to women-identifying individuals of all ages & skill levels. Meets Sundays 8am
URL:https://www.adventuresnw.com/event/wander-women-sunday-adventures-3/2025-11-30/
LOCATION:Wander Brewing\, 1807 Dean Ave.\, Bellingham\, WA
CATEGORIES:Run
END:VEVENT
BEGIN:VEVENT
DTSTART;TZID=America/Los_Angeles:20251123T080000
DTEND;TZID=America/Los_Angeles:20251123T100000
DTSTAMP:20260421T071418
CREATED:20250808T003125Z
LAST-MODIFIED:20250819T002600Z
UID:10000160-1763884800-1763892000@www.adventuresnw.com
SUMMARY:Wander Women Sunday Adventures
DESCRIPTION:Group is open to women-identifying individuals of all ages & skill levels. Meets Sundays 8am
URL:https://www.adventuresnw.com/event/wander-women-sunday-adventures-3/2025-11-23/
LOCATION:Wander Brewing\, 1807 Dean Ave.\, Bellingham\, WA
CATEGORIES:Run
END:VEVENT
BEGIN:VEVENT
DTSTART;TZID=America/Los_Angeles:20251116T080000
DTEND;TZID=America/Los_Angeles:20251116T100000
DTSTAMP:20260421T071418
CREATED:20250808T003125Z
LAST-MODIFIED:20250819T002600Z
UID:10000159-1763280000-1763287200@www.adventuresnw.com
SUMMARY:Wander Women Sunday Adventures
DESCRIPTION:Group is open to women-identifying individuals of all ages & skill levels. Meets Sundays 8am
URL:https://www.adventuresnw.com/event/wander-women-sunday-adventures-3/2025-11-16/
LOCATION:Wander Brewing\, 1807 Dean Ave.\, Bellingham\, WA
CATEGORIES:Run
END:VEVENT
BEGIN:VEVENT
DTSTART;TZID=America/Los_Angeles:20251109T080000
DTEND;TZID=America/Los_Angeles:20251109T100000
DTSTAMP:20260421T071418
CREATED:20250808T003125Z
LAST-MODIFIED:20250819T002600Z
UID:10000158-1762675200-1762682400@www.adventuresnw.com
SUMMARY:Wander Women Sunday Adventures
DESCRIPTION:Group is open to women-identifying individuals of all ages & skill levels. Meets Sundays 8am
URL:https://www.adventuresnw.com/event/wander-women-sunday-adventures-3/2025-11-09/
LOCATION:Wander Brewing\, 1807 Dean Ave.\, Bellingham\, WA
CATEGORIES:Run
END:VEVENT
BEGIN:VEVENT
DTSTART;TZID=America/Los_Angeles:20251102T080000
DTEND;TZID=America/Los_Angeles:20251102T100000
DTSTAMP:20260421T071418
CREATED:20250808T003125Z
LAST-MODIFIED:20250819T002600Z
UID:10000157-1762070400-1762077600@www.adventuresnw.com
SUMMARY:Wander Women Sunday Adventures
DESCRIPTION:Group is open to women-identifying individuals of all ages & skill levels. Meets Sundays 8am
URL:https://www.adventuresnw.com/event/wander-women-sunday-adventures-3/2025-11-02/
LOCATION:Wander Brewing\, 1807 Dean Ave.\, Bellingham\, WA
CATEGORIES:Run
END:VEVENT
BEGIN:VEVENT
DTSTART;TZID=America/Los_Angeles:20251026T080000
DTEND;TZID=America/Los_Angeles:20251026T100000
DTSTAMP:20260421T071418
CREATED:20250808T003125Z
LAST-MODIFIED:20250819T002600Z
UID:10000156-1761465600-1761472800@www.adventuresnw.com
SUMMARY:Wander Women Sunday Adventures
DESCRIPTION:Group is open to women-identifying individuals of all ages & skill levels. Meets Sundays 8am
URL:https://www.adventuresnw.com/event/wander-women-sunday-adventures-3/2025-10-26/
LOCATION:Wander Brewing\, 1807 Dean Ave.\, Bellingham\, WA
CATEGORIES:Run
END:VEVENT
BEGIN:VEVENT
DTSTART;TZID=America/Los_Angeles:20251019T080000
DTEND;TZID=America/Los_Angeles:20251019T100000
DTSTAMP:20260421T071418
CREATED:20250808T003125Z
LAST-MODIFIED:20250819T002600Z
UID:10000155-1760860800-1760868000@www.adventuresnw.com
SUMMARY:Wander Women Sunday Adventures
DESCRIPTION:Group is open to women-identifying individuals of all ages & skill levels. Meets Sundays 8am
URL:https://www.adventuresnw.com/event/wander-women-sunday-adventures-3/2025-10-19/
LOCATION:Wander Brewing\, 1807 Dean Ave.\, Bellingham\, WA
CATEGORIES:Run
END:VEVENT
BEGIN:VEVENT
DTSTART;TZID=America/Los_Angeles:20251012T080000
DTEND;TZID=America/Los_Angeles:20251012T100000
DTSTAMP:20260421T071418
CREATED:20250808T003125Z
LAST-MODIFIED:20250819T002600Z
UID:10000154-1760256000-1760263200@www.adventuresnw.com
SUMMARY:Wander Women Sunday Adventures
DESCRIPTION:Group is open to women-identifying individuals of all ages & skill levels. Meets Sundays 8am
URL:https://www.adventuresnw.com/event/wander-women-sunday-adventures-3/2025-10-12/
LOCATION:Wander Brewing\, 1807 Dean Ave.\, Bellingham\, WA
CATEGORIES:Run
END:VEVENT
BEGIN:VEVENT
DTSTART;TZID=America/Los_Angeles:20251005T080000
DTEND;TZID=America/Los_Angeles:20251005T100000
DTSTAMP:20260421T071418
CREATED:20250808T003125Z
LAST-MODIFIED:20250819T002600Z
UID:10000153-1759651200-1759658400@www.adventuresnw.com
SUMMARY:Wander Women Sunday Adventures
DESCRIPTION:Group is open to women-identifying individuals of all ages & skill levels. Meets Sundays 8am
URL:https://www.adventuresnw.com/event/wander-women-sunday-adventures-3/2025-10-05/
LOCATION:Wander Brewing\, 1807 Dean Ave.\, Bellingham\, WA
CATEGORIES:Run
END:VEVENT
BEGIN:VEVENT
DTSTART;TZID=America/Los_Angeles:20251004T090000
DTEND;TZID=America/Los_Angeles:20251004T120000
DTSTAMP:20260421T071418
CREATED:20250808T003143Z
LAST-MODIFIED:20250818T203519Z
UID:10000130-1759568400-1759579200@www.adventuresnw.com
SUMMARY:Foundation for ESD Monster Mad Dash 5k
DESCRIPTION:Join us at the 17th Annual Monster Mad Dash 5K in Support of ESD Kids.
URL:https://www.adventuresnw.com/event/foundation-for-esd-monster-mad-dash-5k-2/
LOCATION:Lake Ballinger Center\, 23000 Lakeview Dr\, Mountlake Terrace\, WA 98043
CATEGORIES:Run
END:VEVENT
BEGIN:VEVENT
DTSTART;TZID=America/Los_Angeles:20250928T080000
DTEND;TZID=America/Los_Angeles:20250928T100000
DTSTAMP:20260421T071418
CREATED:20250808T003125Z
LAST-MODIFIED:20250819T002600Z
UID:10000152-1759046400-1759053600@www.adventuresnw.com
SUMMARY:Wander Women Sunday Adventures
DESCRIPTION:Group is open to women-identifying individuals of all ages & skill levels. Meets Sundays 8am
URL:https://www.adventuresnw.com/event/wander-women-sunday-adventures-3/2025-09-28/
LOCATION:Wander Brewing\, 1807 Dean Ave.\, Bellingham\, WA
CATEGORIES:Run
END:VEVENT
BEGIN:VEVENT
DTSTART;TZID=America/Los_Angeles:20250921T080000
DTEND;TZID=America/Los_Angeles:20250921T100000
DTSTAMP:20260421T071418
CREATED:20250808T003125Z
LAST-MODIFIED:20250819T002600Z
UID:10000151-1758441600-1758448800@www.adventuresnw.com
SUMMARY:Wander Women Sunday Adventures
DESCRIPTION:Group is open to women-identifying individuals of all ages & skill levels. Meets Sundays 8am
URL:https://www.adventuresnw.com/event/wander-women-sunday-adventures-3/2025-09-21/
LOCATION:Wander Brewing\, 1807 Dean Ave.\, Bellingham\, WA
CATEGORIES:Run
END:VEVENT
BEGIN:VEVENT
DTSTART;TZID=America/Los_Angeles:20250914T080000
DTEND;TZID=America/Los_Angeles:20250914T100000
DTSTAMP:20260421T071418
CREATED:20250808T003125Z
LAST-MODIFIED:20250819T002600Z
UID:10000150-1757836800-1757844000@www.adventuresnw.com
SUMMARY:Wander Women Sunday Adventures
DESCRIPTION:Group is open to women-identifying individuals of all ages & skill levels. Meets Sundays 8am
URL:https://www.adventuresnw.com/event/wander-women-sunday-adventures-3/2025-09-14/
LOCATION:Wander Brewing\, 1807 Dean Ave.\, Bellingham\, WA
CATEGORIES:Run
END:VEVENT
BEGIN:VEVENT
DTSTART;TZID=America/Los_Angeles:20250913T083000
DTEND;TZID=America/Los_Angeles:20250913T120000
DTSTAMP:20260421T071418
CREATED:20250808T003144Z
LAST-MODIFIED:20250818T203532Z
UID:10000131-1757752200-1757764800@www.adventuresnw.com
SUMMARY:13th Annual Run with the Chums
DESCRIPTION:A free\, family-friendly fun run and smolt sprint to celebrate chum salmon in Terrell Creek!
URL:https://www.adventuresnw.com/event/13th-annual-run-with-the-chums-2/
LOCATION:WA
CATEGORIES:Run
END:VEVENT
BEGIN:VEVENT
DTSTART;TZID=America/Los_Angeles:20250907T080000
DTEND;TZID=America/Los_Angeles:20250907T100000
DTSTAMP:20260421T071418
CREATED:20250808T003125Z
LAST-MODIFIED:20250819T002600Z
UID:10000149-1757232000-1757239200@www.adventuresnw.com
SUMMARY:Wander Women Sunday Adventures
DESCRIPTION:Group is open to women-identifying individuals of all ages & skill levels. Meets Sundays 8am
URL:https://www.adventuresnw.com/event/wander-women-sunday-adventures-3/2025-09-07/
LOCATION:Wander Brewing\, 1807 Dean Ave.\, Bellingham\, WA
CATEGORIES:Run
END:VEVENT
BEGIN:VEVENT
DTSTART;TZID=America/Los_Angeles:20250831T080000
DTEND;TZID=America/Los_Angeles:20250831T100000
DTSTAMP:20260421T071418
CREATED:20250808T003125Z
LAST-MODIFIED:20250819T002600Z
UID:10000148-1756627200-1756634400@www.adventuresnw.com
SUMMARY:Wander Women Sunday Adventures
DESCRIPTION:Group is open to women-identifying individuals of all ages & skill levels. Meets Sundays 8am
URL:https://www.adventuresnw.com/event/wander-women-sunday-adventures-3/2025-08-31/
LOCATION:Wander Brewing\, 1807 Dean Ave.\, Bellingham\, WA
CATEGORIES:Run
END:VEVENT
BEGIN:VEVENT
DTSTART;TZID=America/Los_Angeles:20250824T080000
DTEND;TZID=America/Los_Angeles:20250824T100000
DTSTAMP:20260421T071418
CREATED:20250808T003125Z
LAST-MODIFIED:20250819T002600Z
UID:10000147-1756022400-1756029600@www.adventuresnw.com
SUMMARY:Wander Women Sunday Adventures
DESCRIPTION:Group is open to women-identifying individuals of all ages & skill levels. Meets Sundays 8am
URL:https://www.adventuresnw.com/event/wander-women-sunday-adventures-3/2025-08-24/
LOCATION:Wander Brewing\, 1807 Dean Ave.\, Bellingham\, WA
CATEGORIES:Run
END:VEVENT
BEGIN:VEVENT
DTSTART;TZID=America/Los_Angeles:20250817T080000
DTEND;TZID=America/Los_Angeles:20250817T100000
DTSTAMP:20260421T071418
CREATED:20250808T003125Z
LAST-MODIFIED:20250819T002600Z
UID:10000146-1755417600-1755424800@www.adventuresnw.com
SUMMARY:Wander Women Sunday Adventures
DESCRIPTION:Group is open to women-identifying individuals of all ages & skill levels. Meets Sundays 8am
URL:https://www.adventuresnw.com/event/wander-women-sunday-adventures-3/2025-08-17/
LOCATION:Wander Brewing\, 1807 Dean Ave.\, Bellingham\, WA
CATEGORIES:Run
END:VEVENT
BEGIN:VEVENT
DTSTART;TZID=America/Los_Angeles:20250810T080000
DTEND;TZID=America/Los_Angeles:20250810T100000
DTSTAMP:20260421T071418
CREATED:20250808T003125Z
LAST-MODIFIED:20250819T002600Z
UID:10000145-1754812800-1754820000@www.adventuresnw.com
SUMMARY:Wander Women Sunday Adventures
DESCRIPTION:Group is open to women-identifying individuals of all ages & skill levels. Meets Sundays 8am
URL:https://www.adventuresnw.com/event/wander-women-sunday-adventures-3/2025-08-10/
LOCATION:Wander Brewing\, 1807 Dean Ave.\, Bellingham\, WA
CATEGORIES:Run
END:VEVENT
BEGIN:VEVENT
DTSTART;TZID=America/Los_Angeles:20250803T080000
DTEND;TZID=America/Los_Angeles:20250803T100000
DTSTAMP:20260421T071418
CREATED:20250808T003125Z
LAST-MODIFIED:20250819T002600Z
UID:10000144-1754208000-1754215200@www.adventuresnw.com
SUMMARY:Wander Women Sunday Adventures
DESCRIPTION:Group is open to women-identifying individuals of all ages & skill levels. Meets Sundays 8am
URL:https://www.adventuresnw.com/event/wander-women-sunday-adventures-3/2025-08-03/
LOCATION:Wander Brewing\, 1807 Dean Ave.\, Bellingham\, WA
CATEGORIES:Run
END:VEVENT
BEGIN:VEVENT
DTSTART;TZID=America/Los_Angeles:20250727T080000
DTEND;TZID=America/Los_Angeles:20250727T100000
DTSTAMP:20260421T071418
CREATED:20250808T003125Z
LAST-MODIFIED:20250819T002600Z
UID:10000143-1753603200-1753610400@www.adventuresnw.com
SUMMARY:Wander Women Sunday Adventures
DESCRIPTION:Group is open to women-identifying individuals of all ages & skill levels. Meets Sundays 8am
URL:https://www.adventuresnw.com/event/wander-women-sunday-adventures-3/2025-07-27/
LOCATION:Wander Brewing\, 1807 Dean Ave.\, Bellingham\, WA
CATEGORIES:Run
END:VEVENT
BEGIN:VEVENT
DTSTART;TZID=America/Los_Angeles:20250720T080000
DTEND;TZID=America/Los_Angeles:20250720T100000
DTSTAMP:20260421T071418
CREATED:20250808T003125Z
LAST-MODIFIED:20250819T002600Z
UID:10000142-1752998400-1753005600@www.adventuresnw.com
SUMMARY:Wander Women Sunday Adventures
DESCRIPTION:Group is open to women-identifying individuals of all ages & skill levels. Meets Sundays 8am
URL:https://www.adventuresnw.com/event/wander-women-sunday-adventures-3/2025-07-20/
LOCATION:Wander Brewing\, 1807 Dean Ave.\, Bellingham\, WA
CATEGORIES:Run
END:VEVENT
BEGIN:VEVENT
DTSTART;TZID=America/Los_Angeles:20250713T080000
DTEND;TZID=America/Los_Angeles:20250713T100000
DTSTAMP:20260421T071418
CREATED:20250808T003125Z
LAST-MODIFIED:20250819T002600Z
UID:10000141-1752393600-1752400800@www.adventuresnw.com
SUMMARY:Wander Women Sunday Adventures
DESCRIPTION:Group is open to women-identifying individuals of all ages & skill levels. Meets Sundays 8am
URL:https://www.adventuresnw.com/event/wander-women-sunday-adventures-3/2025-07-13/
LOCATION:Wander Brewing\, 1807 Dean Ave.\, Bellingham\, WA
CATEGORIES:Run
END:VEVENT
BEGIN:VEVENT
DTSTART;TZID=America/Los_Angeles:20250706T080000
DTEND;TZID=America/Los_Angeles:20250706T100000
DTSTAMP:20260421T071418
CREATED:20250808T003125Z
LAST-MODIFIED:20250819T002600Z
UID:10000140-1751788800-1751796000@www.adventuresnw.com
SUMMARY:Wander Women Sunday Adventures
DESCRIPTION:Group is open to women-identifying individuals of all ages & skill levels. Meets Sundays 8am
URL:https://www.adventuresnw.com/event/wander-women-sunday-adventures-3/2025-07-06/
LOCATION:Wander Brewing\, 1807 Dean Ave.\, Bellingham\, WA
CATEGORIES:Run
END:VEVENT
END:VCALENDAR