BEGIN:VCALENDAR
VERSION:2.0
PRODID:-//AdventuresNW - ECPv6.15.17//NONSGML v1.0//EN
CALSCALE:GREGORIAN
METHOD:PUBLISH
X-WR-CALNAME:AdventuresNW
X-ORIGINAL-URL:https://www.adventuresnw.com
X-WR-CALDESC:Events for AdventuresNW
REFRESH-INTERVAL;VALUE=DURATION:PT1H
X-Robots-Tag:noindex
X-PUBLISHED-TTL:PT1H
BEGIN:VTIMEZONE
TZID:America/Los_Angeles
BEGIN:DAYLIGHT
TZOFFSETFROM:-0800
TZOFFSETTO:-0700
TZNAME:PDT
DTSTART:20240310T100000
END:DAYLIGHT
BEGIN:STANDARD
TZOFFSETFROM:-0700
TZOFFSETTO:-0800
TZNAME:PST
DTSTART:20241103T090000
END:STANDARD
BEGIN:DAYLIGHT
TZOFFSETFROM:-0800
TZOFFSETTO:-0700
TZNAME:PDT
DTSTART:20250309T100000
END:DAYLIGHT
BEGIN:STANDARD
TZOFFSETFROM:-0700
TZOFFSETTO:-0800
TZNAME:PST
DTSTART:20251102T090000
END:STANDARD
BEGIN:DAYLIGHT
TZOFFSETFROM:-0800
TZOFFSETTO:-0700
TZNAME:PDT
DTSTART:20260308T100000
END:DAYLIGHT
BEGIN:STANDARD
TZOFFSETFROM:-0700
TZOFFSETTO:-0800
TZNAME:PST
DTSTART:20261101T090000
END:STANDARD
END:VTIMEZONE
BEGIN:VEVENT
DTSTART;TZID=America/Los_Angeles:20250629T080000
DTEND;TZID=America/Los_Angeles:20250629T100000
DTSTAMP:20260421T113825
CREATED:20250808T003125Z
LAST-MODIFIED:20250819T002600Z
UID:10000139-1751184000-1751191200@www.adventuresnw.com
SUMMARY:Wander Women Sunday Adventures
DESCRIPTION:Group is open to women-identifying individuals of all ages & skill levels. Meets Sundays 8am
URL:https://www.adventuresnw.com/event/wander-women-sunday-adventures-3/2025-06-29/
LOCATION:Wander Brewing\, 1807 Dean Ave.\, Bellingham\, WA
CATEGORIES:Run
END:VEVENT
BEGIN:VEVENT
DTSTART;TZID=America/Los_Angeles:20250622T080000
DTEND;TZID=America/Los_Angeles:20250622T100000
DTSTAMP:20260421T113825
CREATED:20250808T003125Z
LAST-MODIFIED:20250819T002600Z
UID:10000138-1750579200-1750586400@www.adventuresnw.com
SUMMARY:Wander Women Sunday Adventures
DESCRIPTION:Group is open to women-identifying individuals of all ages & skill levels. Meets Sundays 8am
URL:https://www.adventuresnw.com/event/wander-women-sunday-adventures-3/2025-06-22/
LOCATION:Wander Brewing\, 1807 Dean Ave.\, Bellingham\, WA
CATEGORIES:Run
END:VEVENT
BEGIN:VEVENT
DTSTART;TZID=America/Los_Angeles:20250615T080000
DTEND;TZID=America/Los_Angeles:20250615T100000
DTSTAMP:20260421T113825
CREATED:20250808T003125Z
LAST-MODIFIED:20250819T002600Z
UID:10000137-1749974400-1749981600@www.adventuresnw.com
SUMMARY:Wander Women Sunday Adventures
DESCRIPTION:Group is open to women-identifying individuals of all ages & skill levels. Meets Sundays 8am
URL:https://www.adventuresnw.com/event/wander-women-sunday-adventures-3/2025-06-15/
LOCATION:Wander Brewing\, 1807 Dean Ave.\, Bellingham\, WA
CATEGORIES:Run
END:VEVENT
BEGIN:VEVENT
DTSTART;TZID=America/Los_Angeles:20250608T080000
DTEND;TZID=America/Los_Angeles:20250608T100000
DTSTAMP:20260421T113825
CREATED:20250808T003125Z
LAST-MODIFIED:20250819T002600Z
UID:10000136-1749369600-1749376800@www.adventuresnw.com
SUMMARY:Wander Women Sunday Adventures
DESCRIPTION:Group is open to women-identifying individuals of all ages & skill levels. Meets Sundays 8am
URL:https://www.adventuresnw.com/event/wander-women-sunday-adventures-3/2025-06-08/
LOCATION:Wander Brewing\, 1807 Dean Ave.\, Bellingham\, WA
CATEGORIES:Run
END:VEVENT
BEGIN:VEVENT
DTSTART;TZID=America/Los_Angeles:20250601T080000
DTEND;TZID=America/Los_Angeles:20250601T100000
DTSTAMP:20260421T113825
CREATED:20250808T003125Z
LAST-MODIFIED:20250819T002600Z
UID:10000135-1748764800-1748772000@www.adventuresnw.com
SUMMARY:Wander Women Sunday Adventures
DESCRIPTION:Group is open to women-identifying individuals of all ages & skill levels. Meets Sundays 8am
URL:https://www.adventuresnw.com/event/wander-women-sunday-adventures-3/2025-06-01/
LOCATION:Wander Brewing\, 1807 Dean Ave.\, Bellingham\, WA
CATEGORIES:Run
END:VEVENT
BEGIN:VEVENT
DTSTART;TZID=America/Los_Angeles:20250525T080000
DTEND;TZID=America/Los_Angeles:20250525T100000
DTSTAMP:20260421T113825
CREATED:20250808T003125Z
LAST-MODIFIED:20250819T002600Z
UID:10000134-1748160000-1748167200@www.adventuresnw.com
SUMMARY:Wander Women Sunday Adventures
DESCRIPTION:Group is open to women-identifying individuals of all ages & skill levels. Meets Sundays 8am
URL:https://www.adventuresnw.com/event/wander-women-sunday-adventures-3/2025-05-25/
LOCATION:Wander Brewing\, 1807 Dean Ave.\, Bellingham\, WA
CATEGORIES:Run
END:VEVENT
BEGIN:VEVENT
DTSTART;TZID=America/Los_Angeles:20250518T080000
DTEND;TZID=America/Los_Angeles:20250518T100000
DTSTAMP:20260421T113825
CREATED:20250808T003125Z
LAST-MODIFIED:20250819T002600Z
UID:10000133-1747555200-1747562400@www.adventuresnw.com
SUMMARY:Wander Women Sunday Adventures
DESCRIPTION:Group is open to women-identifying individuals of all ages & skill levels. Meets Sundays 8am
URL:https://www.adventuresnw.com/event/wander-women-sunday-adventures-3/2025-05-18/
LOCATION:Wander Brewing\, 1807 Dean Ave.\, Bellingham\, WA
CATEGORIES:Run
END:VEVENT
BEGIN:VEVENT
DTSTART;TZID=America/Los_Angeles:20250511T080000
DTEND;TZID=America/Los_Angeles:20250511T100000
DTSTAMP:20260421T113825
CREATED:20250808T003125Z
LAST-MODIFIED:20250819T002600Z
UID:10000132-1746950400-1746957600@www.adventuresnw.com
SUMMARY:Wander Women Sunday Adventures
DESCRIPTION:Group is open to women-identifying individuals of all ages & skill levels. Meets Sundays 8am
URL:https://www.adventuresnw.com/event/wander-women-sunday-adventures-3/2025-05-11/
LOCATION:Wander Brewing\, 1807 Dean Ave.\, Bellingham\, WA
CATEGORIES:Run
END:VEVENT
BEGIN:VEVENT
DTSTART;TZID=America/Los_Angeles:20250504T080000
DTEND;TZID=America/Los_Angeles:20250504T100000
DTSTAMP:20260421T113825
CREATED:20250808T003125Z
LAST-MODIFIED:20250819T002600Z
UID:10000120-1746345600-1746352800@www.adventuresnw.com
SUMMARY:Wander Women Sunday Adventures
DESCRIPTION:Group is open to women-identifying individuals of all ages & skill levels. Meets Sundays 8am
URL:https://www.adventuresnw.com/event/wander-women-sunday-adventures-3/2025-05-04/
LOCATION:Wander Brewing\, 1807 Dean Ave.\, Bellingham\, WA
CATEGORIES:Run
END:VEVENT
END:VCALENDAR