BEGIN:VCALENDAR
VERSION:2.0
PRODID:-//AdventuresNW - ECPv6.15.17//NONSGML v1.0//EN
CALSCALE:GREGORIAN
METHOD:PUBLISH
X-ORIGINAL-URL:https://www.adventuresnw.com
X-WR-CALDESC:Events for AdventuresNW
REFRESH-INTERVAL;VALUE=DURATION:PT1H
X-Robots-Tag:noindex
X-PUBLISHED-TTL:PT1H
BEGIN:VTIMEZONE
TZID:America/Los_Angeles
BEGIN:DAYLIGHT
TZOFFSETFROM:-0800
TZOFFSETTO:-0700
TZNAME:PDT
DTSTART:20250309T100000
END:DAYLIGHT
BEGIN:STANDARD
TZOFFSETFROM:-0700
TZOFFSETTO:-0800
TZNAME:PST
DTSTART:20251102T090000
END:STANDARD
BEGIN:DAYLIGHT
TZOFFSETFROM:-0800
TZOFFSETTO:-0700
TZNAME:PDT
DTSTART:20260308T100000
END:DAYLIGHT
BEGIN:STANDARD
TZOFFSETFROM:-0700
TZOFFSETTO:-0800
TZNAME:PST
DTSTART:20261101T090000
END:STANDARD
BEGIN:DAYLIGHT
TZOFFSETFROM:-0800
TZOFFSETTO:-0700
TZNAME:PDT
DTSTART:20270314T100000
END:DAYLIGHT
BEGIN:STANDARD
TZOFFSETFROM:-0700
TZOFFSETTO:-0800
TZNAME:PST
DTSTART:20271107T090000
END:STANDARD
END:VTIMEZONE
BEGIN:VEVENT
DTSTART;TZID=America/Los_Angeles:20260404T123000
DTEND;TZID=America/Los_Angeles:20260404T153000
DTSTAMP:20260419T085712
CREATED:20260115T230547Z
LAST-MODIFIED:20260115T230547Z
UID:10000516-1775305800-1775316600@www.adventuresnw.com
SUMMARY:Edible Plant Identification walk with Northwest Natura
DESCRIPTION:Take a walk at Larrabee State Park\, learn to identify edible plants of PNW coast.
URL:https://www.adventuresnw.com/event/edible-plant-identification-walk-with-northwest-natura/
LOCATION:Larrabee State Park\, 245 Chuckanut Dr.\, Bellingham\, 98229\, United States
CATEGORIES:Special
END:VEVENT
BEGIN:VEVENT
DTSTART;TZID=America/Los_Angeles:20260208T130000
DTEND;TZID=America/Los_Angeles:20260208T163000
DTSTAMP:20260419T085712
CREATED:20260105T225629Z
LAST-MODIFIED:20260105T225629Z
UID:10000507-1770555600-1770568200@www.adventuresnw.com
SUMMARY:Trees of the PNW - A Walk in the Woods with Northwest Natura
DESCRIPTION:Join me along Bellingham’s beautiful coastline trails to learn all about lowland PNW trees.
URL:https://www.adventuresnw.com/event/trees-of-the-pnw-a-walk-in-the-woods-with-northwest-natura/
LOCATION:Larrabee State Park\, 245 Chuckanut Dr.\, Bellingham\, 98229\, United States
CATEGORIES:Hike/Climb
END:VEVENT
END:VCALENDAR