BEGIN:VCALENDAR
VERSION:2.0
PRODID:-//AdventuresNW - ECPv6.15.17//NONSGML v1.0//EN
CALSCALE:GREGORIAN
METHOD:PUBLISH
X-ORIGINAL-URL:https://www.adventuresnw.com
X-WR-CALDESC:Events for AdventuresNW
REFRESH-INTERVAL;VALUE=DURATION:PT1H
X-Robots-Tag:noindex
X-PUBLISHED-TTL:PT1H
BEGIN:VTIMEZONE
TZID:America/Los_Angeles
BEGIN:DAYLIGHT
TZOFFSETFROM:-0800
TZOFFSETTO:-0700
TZNAME:PDT
DTSTART:20240310T100000
END:DAYLIGHT
BEGIN:STANDARD
TZOFFSETFROM:-0700
TZOFFSETTO:-0800
TZNAME:PST
DTSTART:20241103T090000
END:STANDARD
BEGIN:DAYLIGHT
TZOFFSETFROM:-0800
TZOFFSETTO:-0700
TZNAME:PDT
DTSTART:20250309T100000
END:DAYLIGHT
BEGIN:STANDARD
TZOFFSETFROM:-0700
TZOFFSETTO:-0800
TZNAME:PST
DTSTART:20251102T090000
END:STANDARD
BEGIN:DAYLIGHT
TZOFFSETFROM:-0800
TZOFFSETTO:-0700
TZNAME:PDT
DTSTART:20260308T100000
END:DAYLIGHT
BEGIN:STANDARD
TZOFFSETFROM:-0700
TZOFFSETTO:-0800
TZNAME:PST
DTSTART:20261101T090000
END:STANDARD
BEGIN:DAYLIGHT
TZOFFSETFROM:-0800
TZOFFSETTO:-0700
TZNAME:PDT
DTSTART:20270314T100000
END:DAYLIGHT
BEGIN:STANDARD
TZOFFSETFROM:-0700
TZOFFSETTO:-0800
TZNAME:PST
DTSTART:20271107T090000
END:STANDARD
END:VTIMEZONE
BEGIN:VEVENT
DTSTART;TZID=America/Los_Angeles:20260412T120000
DTEND;TZID=America/Los_Angeles:20260412T170000
DTSTAMP:20260419T142107
CREATED:20260115T230214Z
LAST-MODIFIED:20260115T230214Z
UID:10000513-1775995200-1776013200@www.adventuresnw.com
SUMMARY:PNW Naturalist Series - Wilderness Skills w/ Northwest Natura (Day 3)
DESCRIPTION:Have fun while “surviving” outdoors and learning about plants\, wildlife\, fire craft\, foraging\, and ethnobotany.
URL:https://www.adventuresnw.com/event/pnw-naturalist-series-wilderness-skills-w-northwest-natura-day-3/
LOCATION:Northwest Natura Private Land\, Maple Falls
CATEGORIES:Special
END:VEVENT
BEGIN:VEVENT
DTSTART;TZID=America/Los_Angeles:20260322T120000
DTEND;TZID=America/Los_Angeles:20260322T163000
DTSTAMP:20260419T142107
CREATED:20260115T230050Z
LAST-MODIFIED:20260115T230050Z
UID:10000512-1774180800-1774197000@www.adventuresnw.com
SUMMARY:PNW Naturalist Series - Wilderness Skills w/ Northwest Natura (Day 2)
DESCRIPTION:Have fun while “surviving” outdoors and learning about plants\, wildlife\, fire craft\, foraging\, and ethnobotany.
URL:https://www.adventuresnw.com/event/pnw-naturalist-series-wilderness-skills-w-northwest-natura-day-2/
LOCATION:Northwest Natura Private Land\, Maple Falls
CATEGORIES:Special
END:VEVENT
BEGIN:VEVENT
DTSTART;TZID=America/Los_Angeles:20260301T120000
DTEND;TZID=America/Los_Angeles:20260301T163000
DTSTAMP:20260419T142107
CREATED:20260105T225803Z
LAST-MODIFIED:20260105T225803Z
UID:10000509-1772366400-1772382600@www.adventuresnw.com
SUMMARY:PNW Naturalist Series - Wilderness Skills w/ Northwest Natura (DAY 1)
DESCRIPTION:Wilderness/naturalist skills! Deepen awareness of natural world\, empower with practical knowledge of survival in PNW.
URL:https://www.adventuresnw.com/event/pnw-naturalist-series-wilderness-skills-w-northwest-natura-day-1/
LOCATION:Northwest Natura Private Land\, Maple Falls
CATEGORIES:Special
END:VEVENT
BEGIN:VEVENT
DTSTART;TZID=America/Los_Angeles:20260124T120000
DTEND;TZID=America/Los_Angeles:20260124T163000
DTSTAMP:20260419T142107
CREATED:20251128T212128Z
LAST-MODIFIED:20251128T212128Z
UID:10000490-1769256000-1769272200@www.adventuresnw.com
SUMMARY:Ancestral Skills: Bone Tool Wildcrafting with Northwest Natura
DESCRIPTION:Join me around crackling fire\, engage in ancient technique of turning bones into tools/art.
URL:https://www.adventuresnw.com/event/ancestral-skills-bone-tool-wildcrafting-with-northwest-natura/
LOCATION:Northwest Natura Private Land\, Maple Falls
CATEGORIES:Special
END:VEVENT
BEGIN:VEVENT
DTSTART;TZID=America/Los_Angeles:20260104T123000
DTEND;TZID=America/Los_Angeles:20260104T153000
DTSTAMP:20260419T142107
CREATED:20251119T194028Z
LAST-MODIFIED:20251119T194028Z
UID:10000485-1767529800-1767540600@www.adventuresnw.com
SUMMARY:Moss of the PNW with Northwest Natura
DESCRIPTION:Join botanist/naturalist\, PNW moss-laden forest\, learn moss facts\, names of common mosses & more!
URL:https://www.adventuresnw.com/event/moss-of-the-pnw-with-northwest-natura-2/
LOCATION:Northwest Natura Private Land\, Maple Falls
CATEGORIES:Special
END:VEVENT
BEGIN:VEVENT
DTSTART;TZID=America/Los_Angeles:20251130T113000
DTEND;TZID=America/Los_Angeles:20251130T160000
DTSTAMP:20260419T142107
CREATED:20250918T204907Z
LAST-MODIFIED:20250918T204907Z
UID:10000450-1764502200-1764518400@www.adventuresnw.com
SUMMARY:Wildcrafting Workshop: Foraging & Wreath-Making w/ Northwest Natura
DESCRIPTION:A memorable and relaxing winter wildcrafter’s workshop! Step-by-step process of wreathmaking with foraged foliage.
URL:https://www.adventuresnw.com/event/wildcrafting-workshop-foraging-wreath-making-w-northwest-natura/
LOCATION:Northwest Natura Private Land\, Maple Falls
CATEGORIES:Special
END:VEVENT
BEGIN:VEVENT
DTSTART;TZID=America/Los_Angeles:20251123T110000
DTEND;TZID=America/Los_Angeles:20251123T160000
DTSTAMP:20260419T142107
CREATED:20250918T205006Z
LAST-MODIFIED:20250918T205006Z
UID:10000451-1763895600-1763913600@www.adventuresnw.com
SUMMARY:Bushcraft Basics: Survival Fishing Reel with Northwest Natura
DESCRIPTION:Plant ID basics for harvesting wood for hand reels/rods\, Several carving techniques\, knots\, and more!
URL:https://www.adventuresnw.com/event/bushcraft-basics-survival-fishing-reel-with-northwest-natura/
LOCATION:Northwest Natura Private Land\, Maple Falls
CATEGORIES:Special
END:VEVENT
BEGIN:VEVENT
DTSTART;TZID=America/Los_Angeles:20251122T113000
DTEND;TZID=America/Los_Angeles:20251122T160000
DTSTAMP:20260419T142107
CREATED:20250912T001920Z
LAST-MODIFIED:20250912T001920Z
UID:10000449-1763811000-1763827200@www.adventuresnw.com
SUMMARY:Wildcrafting Workshop: Foraging & Wreath-Making with Northwest Natura
DESCRIPTION:A memorable and relaxing winter wildcrafter’s workshop! Step-by-step process of wreathmaking with foraged foliage.
URL:https://www.adventuresnw.com/event/wildcrafting-workshop-foraging-wreath-making-with-northwest-natura/
LOCATION:Northwest Natura Private Land\, Maple Falls
CATEGORIES:Special
END:VEVENT
BEGIN:VEVENT
DTSTART;TZID=America/Los_Angeles:20251115T120000
DTEND;TZID=America/Los_Angeles:20251115T163000
DTSTAMP:20260419T142107
CREATED:20250912T000839Z
LAST-MODIFIED:20250912T000839Z
UID:10000448-1763208000-1763224200@www.adventuresnw.com
SUMMARY:Winter Season Fire-Making Skills with Northwest Natura
DESCRIPTION:Learn processing natural materials for optimal flammability\, axe skills\, feathersticks\, safety\, flint & steel\, foraging.
URL:https://www.adventuresnw.com/event/winter-season-fire-making-skills-with-northwest-natura/
LOCATION:Northwest Natura Private Land\, Maple Falls
CATEGORIES:Special
END:VEVENT
BEGIN:VEVENT
DTSTART;TZID=America/Los_Angeles:20250817T130000
DTEND;TZID=America/Los_Angeles:20250817T190000
DTSTAMP:20260419T142107
CREATED:20250808T003126Z
LAST-MODIFIED:20250818T203601Z
UID:10000123-1755435600-1755457200@www.adventuresnw.com
SUMMARY:Bushcraft Basics Outdoors: Fire & Shelter Building with/ Northwest Natura
DESCRIPTION:Introduction to Bushcraft in the PNW\, knots\, shelter\, survival\, fire\, axe\, and more!
URL:https://www.adventuresnw.com/event/bushcraft-basics-outdoors-fire-shelter-building-with-northwest-natura-2/
LOCATION:Northwest Natura Private Land\, Maple Falls
CATEGORIES:Special
END:VEVENT
BEGIN:VEVENT
DTSTART;TZID=America/Los_Angeles:20250809T130000
DTEND;TZID=America/Los_Angeles:20250809T190000
DTSTAMP:20260419T142107
CREATED:20250808T003126Z
LAST-MODIFIED:20250818T203637Z
UID:10000122-1754744400-1754766000@www.adventuresnw.com
SUMMARY:Cascadian Volcanoes & their Epic Foothills with Northwest Natura
DESCRIPTION:Learn how Cascades were made\, how the mountains influence Washington State biomes\, outdoor immersive course.
URL:https://www.adventuresnw.com/event/cascadian-volcanoes-their-epic-foothills-with-northwest-natura-2/
LOCATION:Northwest Natura Private Land\, Maple Falls
CATEGORIES:Special
END:VEVENT
END:VCALENDAR