BEGIN:VCALENDAR
VERSION:2.0
PRODID:-//AdventuresNW - ECPv6.15.17//NONSGML v1.0//EN
CALSCALE:GREGORIAN
METHOD:PUBLISH
X-WR-CALNAME:AdventuresNW
X-ORIGINAL-URL:https://www.adventuresnw.com
X-WR-CALDESC:Events for AdventuresNW
REFRESH-INTERVAL;VALUE=DURATION:PT1H
X-Robots-Tag:noindex
X-PUBLISHED-TTL:PT1H
BEGIN:VTIMEZONE
TZID:America/Los_Angeles
BEGIN:DAYLIGHT
TZOFFSETFROM:-0800
TZOFFSETTO:-0700
TZNAME:PDT
DTSTART:20250309T100000
END:DAYLIGHT
BEGIN:STANDARD
TZOFFSETFROM:-0700
TZOFFSETTO:-0800
TZNAME:PST
DTSTART:20251102T090000
END:STANDARD
BEGIN:DAYLIGHT
TZOFFSETFROM:-0800
TZOFFSETTO:-0700
TZNAME:PDT
DTSTART:20260308T100000
END:DAYLIGHT
BEGIN:STANDARD
TZOFFSETFROM:-0700
TZOFFSETTO:-0800
TZNAME:PST
DTSTART:20261101T090000
END:STANDARD
BEGIN:DAYLIGHT
TZOFFSETFROM:-0800
TZOFFSETTO:-0700
TZNAME:PDT
DTSTART:20270314T100000
END:DAYLIGHT
BEGIN:STANDARD
TZOFFSETFROM:-0700
TZOFFSETTO:-0800
TZNAME:PST
DTSTART:20271107T090000
END:STANDARD
END:VTIMEZONE
BEGIN:VEVENT
DTSTART;TZID=America/Los_Angeles:20260426T070000
DTEND;TZID=America/Los_Angeles:20260426T170000
DTSTAMP:20260419T075146
CREATED:20251114T013718Z
LAST-MODIFIED:20251114T013718Z
UID:10000483-1777186800-1777222800@www.adventuresnw.com
SUMMARY:McClinchy Camano Classic Century
DESCRIPTION:Biking around Camano Island and ending with tacos and friends at a local brewpub is what makes this a classic. There’s a hilly 100-mile century route\, a metric century\, the popular island perimeter (50 mile)\, and a half island (35 mile) option.
URL:https://www.adventuresnw.com/event/mcclinchy-camano-classic-century/
LOCATION:Stanwood Middle School\, 9405 271st St. NW\, Stanwood\, 98292\, United States
ATTACH;FMTTYPE=image/jpeg:https://www.adventuresnw.com/wp-content/uploads/2025/11/mcclinchy_official_logo_smaller.jpg
END:VEVENT
END:VCALENDAR